BEGIN:VCALENDAR
VERSION:2.0
PRODID:-//Sportfreunde Upo - ECPv6.15.13.1//NONSGML v1.0//EN
CALSCALE:GREGORIAN
METHOD:PUBLISH
X-WR-CALNAME:Sportfreunde Upo
X-ORIGINAL-URL:https://www.sportfreunde-upo.de
X-WR-CALDESC:Veranstaltungen für Sportfreunde Upo
REFRESH-INTERVAL;VALUE=DURATION:PT1H
X-Robots-Tag:noindex
X-PUBLISHED-TTL:PT1H
BEGIN:VTIMEZONE
TZID:Europe/Berlin
BEGIN:DAYLIGHT
TZOFFSETFROM:+0100
TZOFFSETTO:+0200
TZNAME:CEST
DTSTART:20250330T010000
END:DAYLIGHT
BEGIN:STANDARD
TZOFFSETFROM:+0200
TZOFFSETTO:+0100
TZNAME:CET
DTSTART:20251026T010000
END:STANDARD
BEGIN:DAYLIGHT
TZOFFSETFROM:+0100
TZOFFSETTO:+0200
TZNAME:CEST
DTSTART:20260329T010000
END:DAYLIGHT
BEGIN:STANDARD
TZOFFSETFROM:+0200
TZOFFSETTO:+0100
TZNAME:CET
DTSTART:20261025T010000
END:STANDARD
BEGIN:DAYLIGHT
TZOFFSETFROM:+0100
TZOFFSETTO:+0200
TZNAME:CEST
DTSTART:20270328T010000
END:DAYLIGHT
BEGIN:STANDARD
TZOFFSETFROM:+0200
TZOFFSETTO:+0100
TZNAME:CET
DTSTART:20271031T010000
END:STANDARD
END:VTIMEZONE
BEGIN:VEVENT
DTSTART;VALUE=DATE:20260410
DTEND;VALUE=DATE:20260411
DTSTAMP:20260424T183114
CREATED:20260328T075940Z
LAST-MODIFIED:20260328T080152Z
UID:987510418-1775779200-1775865599@www.sportfreunde-upo.de
SUMMARY:Darts AS Liga
DESCRIPTION:Darts Heimspiel gegen The Brains (Sulzbach-Rosenberg)\n​Ort: Sportheim UPO\n​Wir nehmen den Schwung des Titels\ndirekt mit in die AS Liga und wollen auch dort zeigen\, was wir können!
URL:https://www.sportfreunde-upo.de/event/darts-as-liga
LOCATION:Sportheim SF U-Poppenricht\, Sportplatz 7\, Hahnbach\, Bayern\, 92256\, Germany
ATTACH;FMTTYPE=image/jpeg:https://www.sportfreunde-upo.de/wp-content/uploads/2026/03/9-1_Meister.jpg
END:VEVENT
END:VCALENDAR